BEGIN:VCALENDAR
VERSION:2.0
PRODID:-//LibreRegistration//EN
BEGIN:VEVENT
UID:00000000-0000-4000-8000-000000003832@libreregistration
DTSTAMP:20260424T022359Z
DTSTART:20111027T000000Z
DTEND:20111027T020000Z
SUMMARY:Qjelt — 27/10/2011
END:VEVENT
END:VCALENDAR
