BEGIN:VCALENDAR
VERSION:2.0
PRODID:-//LibreRegistration//EN
BEGIN:VEVENT
UID:00000000-0000-4000-8000-000000003818@libreregistration
DTSTAMP:20260424T022741Z
DTSTART:20111008T000000Z
DTEND:20111008T020000Z
SUMMARY:Atelier Blender — 08/10/2011
END:VEVENT
END:VCALENDAR
