BEGIN:VCALENDAR
VERSION:2.0
PRODID:-//LibreRegistration//EN
BEGIN:VEVENT
UID:00000000-0000-4000-8000-000000003799@libreregistration
DTSTAMP:20260424T022541Z
DTSTART:20110929T000000Z
DTEND:20110929T020000Z
SUMMARY:Qjelt — 29/09/2011
END:VEVENT
END:VCALENDAR
