BEGIN:VCALENDAR
VERSION:2.0
PRODID:-//LibreRegistration//EN
BEGIN:VEVENT
UID:00000000-0000-4000-8000-000000003786@libreregistration
DTSTAMP:20260424T022821Z
DTSTART:20110924T000000Z
DTEND:20110924T020000Z
SUMMARY:Atelier Blender — 24/09/2011
END:VEVENT
END:VCALENDAR
