BEGIN:VCALENDAR
VERSION:2.0
PRODID:-//LibreRegistration//EN
BEGIN:VEVENT
UID:00000000-0000-4000-8000-000000003752@libreregistration
DTSTAMP:20260424T022359Z
DTSTART:20110727T000000Z
DTEND:20110727T020000Z
SUMMARY:Release Kde 47 — 27/07/2011
END:VEVENT
END:VCALENDAR
