BEGIN:VCALENDAR
VERSION:2.0
PRODID:-//LibreRegistration//EN
BEGIN:VEVENT
UID:00000000-0000-4000-8000-000000003743@libreregistration
DTSTAMP:20260424T022400Z
DTSTART:20110630T000000Z
DTEND:20110630T020000Z
SUMMARY:Qjelt — 30/06/2011
END:VEVENT
END:VCALENDAR
