BEGIN:VCALENDAR
VERSION:2.0
PRODID:-//LibreRegistration//EN
BEGIN:VEVENT
UID:00000000-0000-4000-8000-000000003458@libreregistration
DTSTAMP:20260424T022339Z
DTSTART:20110623T000000Z
DTEND:20110623T020000Z
SUMMARY:Eclipseparty — 23/06/2011
END:VEVENT
END:VCALENDAR
