BEGIN:VCALENDAR
VERSION:2.0
PRODID:-//LibreRegistration//EN
BEGIN:VEVENT
UID:00000000-0000-4000-8000-000000003724@libreregistration
DTSTAMP:20260424T023909Z
DTSTART:20110618T000000Z
DTEND:20110618T020000Z
SUMMARY:Cartopartie Velo — 18/06/2011
END:VEVENT
END:VCALENDAR
