BEGIN:VCALENDAR
VERSION:2.0
PRODID:-//LibreRegistration//EN
BEGIN:VEVENT
UID:00000000-0000-4000-8000-000000003677@libreregistration
DTSTAMP:20260424T022542Z
DTSTART:20110531T000000Z
DTEND:20110531T020000Z
SUMMARY:Qjelt — 31/05/2011
END:VEVENT
END:VCALENDAR
