BEGIN:VCALENDAR
VERSION:2.0
PRODID:-//LibreRegistration//EN
BEGIN:VEVENT
UID:00000000-0000-4000-8000-000000003649@libreregistration
DTSTAMP:20260424T022651Z
DTSTART:20110528T000000Z
DTEND:20110528T020000Z
SUMMARY:Atelier Kde — 28/05/2011
END:VEVENT
END:VCALENDAR
