BEGIN:VCALENDAR
VERSION:2.0
PRODID:-//LibreRegistration//EN
BEGIN:VEVENT
UID:00000000-0000-4000-8000-000000003412@libreregistration
DTSTAMP:20260424T022610Z
DTSTART:20110421T000000Z
DTEND:20110421T020000Z
SUMMARY:Qjelt — 21/04/2011
END:VEVENT
END:VCALENDAR
