BEGIN:VCALENDAR
VERSION:2.0
PRODID:-//LibreRegistration//EN
BEGIN:VEVENT
UID:00000000-0000-4000-8000-000000003343@libreregistration
DTSTAMP:20260424T022541Z
DTSTART:20110324T000000Z
DTEND:20110324T020000Z
SUMMARY:Qjelt — 24/03/2011
END:VEVENT
END:VCALENDAR
