BEGIN:VCALENDAR
VERSION:2.0
PRODID:-//LibreRegistration//EN
BEGIN:VEVENT
UID:00000000-0000-4000-8000-000000003106@libreregistration
DTSTAMP:20260424T022546Z
DTSTART:20110115T000000Z
DTEND:20110115T020000Z
SUMMARY:Atelier Kde — 15/01/2011
END:VEVENT
END:VCALENDAR
