BEGIN:VCALENDAR
VERSION:2.0
PRODID:-//LibreRegistration//EN
BEGIN:VEVENT
UID:00000000-0000-4000-8000-000000003075@libreregistration
DTSTAMP:20260424T023333Z
DTSTART:20101221T000000Z
DTEND:20101221T020000Z
SUMMARY:Qjelt — 21/12/2010
END:VEVENT
END:VCALENDAR
