BEGIN:VCALENDAR
VERSION:2.0
PRODID:-//LibreRegistration//EN
BEGIN:VEVENT
UID:00000000-0000-4000-8000-000000003013@libreregistration
DTSTAMP:20260424T022836Z
DTSTART:20101211T000000Z
DTEND:20101211T020000Z
SUMMARY:Atelier Blender — 11/12/2010
END:VEVENT
END:VCALENDAR
