BEGIN:VCALENDAR
VERSION:2.0
PRODID:-//LibreRegistration//EN
BEGIN:VEVENT
UID:00000000-0000-4000-8000-000000002928@libreregistration
DTSTAMP:20260424T041838Z
DTSTART:20101127T000000Z
DTEND:20101127T020000Z
SUMMARY:Atelier Kde — 27/11/2010
END:VEVENT
END:VCALENDAR
