BEGIN:VCALENDAR
VERSION:2.0
PRODID:-//LibreRegistration//EN
BEGIN:VEVENT
UID:00000000-0000-4000-8000-000000002953@libreregistration
DTSTAMP:20260424T041654Z
DTSTART:20101125T000000Z
DTEND:20101125T020000Z
SUMMARY:Qjelt — 25/11/2010
END:VEVENT
END:VCALENDAR
