BEGIN:VCALENDAR
VERSION:2.0
PRODID:-//LibreRegistration//EN
BEGIN:VEVENT
UID:00000000-0000-4000-8000-000000002891@libreregistration
DTSTAMP:20260424T041757Z
DTSTART:20101106T000000Z
DTEND:20101106T020000Z
SUMMARY:Atelier Blender — 06/11/2010
END:VEVENT
END:VCALENDAR
