BEGIN:VCALENDAR
VERSION:2.0
PRODID:-//LibreRegistration//EN
BEGIN:VEVENT
UID:00000000-0000-4000-8000-000000002823@libreregistration
DTSTAMP:20260424T041101Z
DTSTART:20101020T000000Z
DTEND:20101020T020000Z
SUMMARY:Projection Sintel — 20/10/2010
END:VEVENT
END:VCALENDAR
