BEGIN:VCALENDAR
VERSION:2.0
PRODID:-//LibreRegistration//EN
BEGIN:VEVENT
UID:00000000-0000-4000-8000-000000002725@libreregistration
DTSTAMP:20260424T042204Z
DTSTART:20101009T000000Z
DTEND:20101009T020000Z
SUMMARY:Atelier Peinture Numerique — 09/10/2010
END:VEVENT
END:VCALENDAR
