BEGIN:VCALENDAR
VERSION:2.0
PRODID:-//LibreRegistration//EN
BEGIN:VEVENT
UID:00000000-0000-4000-8000-000000002754@libreregistration
DTSTAMP:20260424T041357Z
DTSTART:20100928T000000Z
DTEND:20100928T020000Z
SUMMARY:Qjelt — 28/09/2010
END:VEVENT
END:VCALENDAR
