BEGIN:VCALENDAR
VERSION:2.0
PRODID:-//LibreRegistration//EN
BEGIN:VEVENT
UID:00000000-0000-4000-8000-000000002642@libreregistration
DTSTAMP:20260424T042146Z
DTSTART:20100627T000000Z
DTEND:20100627T020000Z
SUMMARY:Piquenique April — 27/06/2010
END:VEVENT
END:VCALENDAR
