BEGIN:VCALENDAR
VERSION:2.0
PRODID:-//LibreRegistration//EN
BEGIN:VEVENT
UID:00000000-0000-4000-8000-000000002661@libreregistration
DTSTAMP:20260424T041906Z
DTSTART:20100626T000000Z
DTEND:20100626T020000Z
SUMMARY:Atelier Blender — 26/06/2010
END:VEVENT
END:VCALENDAR
