BEGIN:VCALENDAR
VERSION:2.0
PRODID:-//LibreRegistration//EN
BEGIN:VEVENT
UID:00000000-0000-4000-8000-000000003707@libreregistration
DTSTAMP:20260424T041757Z
DTSTART:20100618T000000Z
DTEND:20100618T020000Z
SUMMARY:Atelier Blender — 18/06/2010
END:VEVENT
END:VCALENDAR
