BEGIN:VCALENDAR
VERSION:2.0
PRODID:-//LibreRegistration//EN
BEGIN:VEVENT
UID:00000000-0000-4000-8000-000000002617@libreregistration
DTSTAMP:20260424T041547Z
DTSTART:20100615T000000Z
DTEND:20100615T020000Z
SUMMARY:Qjelt — 15/06/2010
END:VEVENT
END:VCALENDAR
