BEGIN:VCALENDAR
VERSION:2.0
PRODID:-//LibreRegistration//EN
BEGIN:VEVENT
UID:00000000-0000-4000-8000-000000003668@libreregistration
DTSTAMP:20260424T041905Z
DTSTART:20100528T000000Z
DTEND:20100528T020000Z
SUMMARY:Atelier Blender — 28/05/2010
END:VEVENT
END:VCALENDAR
