BEGIN:VCALENDAR
VERSION:2.0
PRODID:-//LibreRegistration//EN
BEGIN:VEVENT
UID:00000000-0000-4000-8000-000000002574@libreregistration
DTSTAMP:20260424T041019Z
DTSTART:20100527T000000Z
DTEND:20100527T020000Z
SUMMARY:Qjelt — 27/05/2010
END:VEVENT
END:VCALENDAR
