BEGIN:VCALENDAR
VERSION:2.0
PRODID:-//LibreRegistration//EN
BEGIN:VEVENT
UID:00000000-0000-4000-8000-000000002514@libreregistration
DTSTAMP:20260424T041654Z
DTSTART:20100422T000000Z
DTEND:20100422T020000Z
SUMMARY:Qjelt — 22/04/2010
END:VEVENT
END:VCALENDAR
