BEGIN:VCALENDAR
VERSION:2.0
PRODID:-//LibreRegistration//EN
BEGIN:VEVENT
UID:00000000-0000-4000-8000-000000002450@libreregistration
DTSTAMP:20260424T060951Z
DTSTART:20100325T000000Z
DTEND:20100325T020000Z
SUMMARY:Qjelt — 25/03/2010
END:VEVENT
END:VCALENDAR
