BEGIN:VCALENDAR
VERSION:2.0
PRODID:-//LibreRegistration//EN
BEGIN:VEVENT
UID:00000000-0000-4000-8000-000000002396@libreregistration
DTSTAMP:20260424T061039Z
DTSTART:20100306T000000Z
DTEND:20100306T020000Z
SUMMARY:Atelier Blender — 06/03/2010
END:VEVENT
END:VCALENDAR
