BEGIN:VCALENDAR
VERSION:2.0
PRODID:-//LibreRegistration//EN
BEGIN:VEVENT
UID:00000000-0000-4000-8000-000000002322@libreregistration
DTSTAMP:20260424T060950Z
DTSTART:20100225T000000Z
DTEND:20100225T020000Z
SUMMARY:Qjelt — 25/02/2010
END:VEVENT
END:VCALENDAR
