BEGIN:VCALENDAR
VERSION:2.0
PRODID:-//LibreRegistration//EN
BEGIN:VEVENT
UID:00000000-0000-4000-8000-000000003242@libreregistration
DTSTAMP:20260424T061119Z
DTSTART:20100212T000000Z
DTEND:20100212T020000Z
SUMMARY:Atelier Blender — 12/02/2010
END:VEVENT
END:VCALENDAR
