BEGIN:VCALENDAR
VERSION:2.0
PRODID:-//LibreRegistration//EN
BEGIN:VEVENT
UID:00000000-0000-4000-8000-000000002286@libreregistration
DTSTAMP:20260424T061038Z
DTSTART:20100206T000000Z
DTEND:20100206T020000Z
SUMMARY:Atelier Blender — 06/02/2010
END:VEVENT
END:VCALENDAR
