BEGIN:VCALENDAR
VERSION:2.0
PRODID:-//LibreRegistration//EN
BEGIN:VEVENT
UID:00000000-0000-4000-8000-000000003194@libreregistration
DTSTAMP:20260424T060841Z
DTSTART:20100205T000000Z
DTEND:20100205T020000Z
SUMMARY:Atelier Ligne Commande — 05/02/2010
END:VEVENT
END:VCALENDAR
