BEGIN:VCALENDAR
VERSION:2.0
PRODID:-//LibreRegistration//EN
BEGIN:VEVENT
UID:00000000-0000-4000-8000-000000002267@libreregistration
DTSTAMP:20260424T060952Z
DTSTART:20100128T000000Z
DTEND:20100128T020000Z
SUMMARY:Qjelt — 28/01/2010
END:VEVENT
END:VCALENDAR
