BEGIN:VCALENDAR
VERSION:2.0
PRODID:-//LibreRegistration//EN
BEGIN:VEVENT
UID:00000000-0000-4000-8000-000000003121@libreregistration
DTSTAMP:20260424T061213Z
DTSTART:20100115T000000Z
DTEND:20100115T020000Z
SUMMARY:Atelier Peinture Numerique — 15/01/2010
END:VEVENT
END:VCALENDAR
