BEGIN:VCALENDAR
VERSION:2.0
PRODID:-//LibreRegistration//EN
BEGIN:VEVENT
UID:00000000-0000-4000-8000-000000002237@libreregistration
DTSTAMP:20260424T061021Z
DTSTART:20100109T000000Z
DTEND:20100109T020000Z
SUMMARY:Atelier Kde — 09/01/2010
END:VEVENT
END:VCALENDAR
