BEGIN:VCALENDAR
VERSION:2.0
PRODID:-//LibreRegistration//EN
BEGIN:VEVENT
UID:00000000-0000-4000-8000-000000002212@libreregistration
DTSTAMP:20260424T061038Z
DTSTART:20091212T000000Z
DTEND:20091212T020000Z
SUMMARY:Atelier Blender — 12/12/2009
END:VEVENT
END:VCALENDAR
