BEGIN:VCALENDAR
VERSION:2.0
PRODID:-//LibreRegistration//EN
BEGIN:VEVENT
UID:00000000-0000-4000-8000-000000002183@libreregistration
DTSTAMP:20260424T060848Z
DTSTART:20091210T000000Z
DTEND:20091210T020000Z
SUMMARY:Qjelt — 10/12/2009
END:VEVENT
END:VCALENDAR
