BEGIN:VCALENDAR
VERSION:2.0
PRODID:-//LibreRegistration//EN
BEGIN:VEVENT
UID:00000000-0000-4000-8000-000000002145@libreregistration
DTSTAMP:20260424T061120Z
DTSTART:20091121T000000Z
DTEND:20091121T020000Z
SUMMARY:Atelier Blender — 21/11/2009
END:VEVENT
END:VCALENDAR
