BEGIN:VCALENDAR
VERSION:2.0
PRODID:-//LibreRegistration//EN
BEGIN:VEVENT
UID:00000000-0000-4000-8000-000000002106@libreregistration
DTSTAMP:20260424T060840Z
DTSTART:20091029T000000Z
DTEND:20091029T020000Z
SUMMARY:Qjelt — 29/10/2009
END:VEVENT
END:VCALENDAR
