BEGIN:VCALENDAR
VERSION:2.0
PRODID:-//LibreRegistration//EN
BEGIN:VEVENT
UID:00000000-0000-4000-8000-000000002093@libreregistration
DTSTAMP:20260424T060950Z
DTSTART:20091017T000000Z
DTEND:20091017T020000Z
SUMMARY:Atelier Kde — 17/10/2009
END:VEVENT
END:VCALENDAR
