BEGIN:VCALENDAR
VERSION:2.0
PRODID:-//LibreRegistration//EN
BEGIN:VEVENT
UID:00000000-0000-4000-8000-000000002030@libreregistration
DTSTAMP:20260424T061020Z
DTSTART:20090926T000000Z
DTEND:20090926T020000Z
SUMMARY:Atelier Kde — 26/09/2009
END:VEVENT
END:VCALENDAR
