BEGIN:VCALENDAR
VERSION:2.0
PRODID:-//LibreRegistration//EN
BEGIN:VEVENT
UID:00000000-0000-4000-8000-000000002009@libreregistration
DTSTAMP:20260424T060635Z
DTSTART:20090628T000000Z
DTEND:20090628T020000Z
SUMMARY:Mapping Party — 28/06/2009
END:VEVENT
END:VCALENDAR
