BEGIN:VCALENDAR
VERSION:2.0
PRODID:-//LibreRegistration//EN
BEGIN:VEVENT
UID:00000000-0000-4000-8000-000000001980@libreregistration
DTSTAMP:20260424T060849Z
DTSTART:20090621T000000Z
DTEND:20090621T020000Z
SUMMARY:Qjelt — 21/06/2009
END:VEVENT
END:VCALENDAR
