BEGIN:VCALENDAR
VERSION:2.0
PRODID:-//LibreRegistration//EN
BEGIN:VEVENT
UID:00000000-0000-4000-8000-000000001963@libreregistration
DTSTAMP:20260424T074513Z
DTSTART:20090613T000000Z
DTEND:20090613T020000Z
SUMMARY:Atelier Mao — 13/06/2009
END:VEVENT
END:VCALENDAR
