BEGIN:VCALENDAR
VERSION:2.0
PRODID:-//LibreRegistration//EN
BEGIN:VEVENT
UID:00000000-0000-4000-8000-000000001944@libreregistration
DTSTAMP:20260424T074502Z
DTSTART:20090530T000000Z
DTEND:20090530T020000Z
SUMMARY:Atelier Kde — 30/05/2009
END:VEVENT
END:VCALENDAR
