BEGIN:VCALENDAR
VERSION:2.0
PRODID:-//LibreRegistration//EN
BEGIN:VEVENT
UID:00000000-0000-4000-8000-000000001903@libreregistration
DTSTAMP:20260424T074326Z
DTSTART:20090527T000000Z
DTEND:20090527T020000Z
SUMMARY:Qjelt — 27/05/2009
END:VEVENT
END:VCALENDAR
