BEGIN:VCALENDAR
VERSION:2.0
PRODID:-//LibreRegistration//EN
BEGIN:VEVENT
UID:00000000-0000-4000-8000-000000001882@libreregistration
DTSTAMP:20260424T075102Z
DTSTART:20090425T000000Z
DTEND:20090425T020000Z
SUMMARY:Atelier Kde — 25/04/2009
END:VEVENT
END:VCALENDAR
