BEGIN:VCALENDAR
VERSION:2.0
PRODID:-//LibreRegistration//EN
BEGIN:VEVENT
UID:00000000-0000-4000-8000-000000001831@libreregistration
DTSTAMP:20260424T074359Z
DTSTART:20090416T000000Z
DTEND:20090416T020000Z
SUMMARY:Qjelt — 16/04/2009
END:VEVENT
END:VCALENDAR
